Workbook

Sheet Ind Produção - 1
A1: INFORMAÇÃO ESTATÍSTICA DO SECTOR DE FACTORING
A3: ACUMULADO A 2026.04.30
A5: INDICADORES DE PRODUÇÃO (1)
H7: (Valores em Milhares de Euros)
A8: Factoring Doméstico
A9: Empresas | B9: CRÉDITOS TOMADOS
B10: Factoring Doméstico
B11: Com Recurso | E11: Sem Recurso | H11: Total
B12: 2026 | C12: 2025 | D12: ∆ | E12: 2026 | F12: 2025 | G12: ∆ | H12: 2026 | I12: 2025 | J12: ∆
A13: ABANCA | C13: 43320 | D13: =B13/C13-1 -> -1 | F13: 7159 | G13: =E13/F13-1 -> -1 | H13: =B13+E13 -> 0 | I13: =C13+F13 -> 50479 | J13: =H13/I13-1 -> -1
A14: Banco Montepio | B14: 158517 | C14: 138099 | D14: =B14/C14-1 -> 0.14785046 | E14: 57595 | F14: 33596 | G14: =E14/F14-1 -> 0.71434099 | H14: =B14+E14 -> 216112 | I14: =C14+F14 -> 171695 | J14: =H14/I14-1 -> 0.25869711
A15: Bankinter | D15: =B15/C15-1 -> #DIV/0! | G15: =E15/F15-1 -> #DIV/0! | H15: =B15+E15 -> 0 | I15: =C15+F15 -> 0 | J15: =H15/I15-1 -> #DIV/0!
A16: BBVA Portugal | B16: 10811 | C16: 11562 | D16: =B16/C16-1 -> -0.06495416 | E16: 66593 | F16: 44061 | G16: =E16/F16-1 -> 0.51138195 | H16: =B16+E16 -> 77404 | I16: =C16+F16 -> 55623 | J16: =H16/I16-1 -> 0.39158262
A17: BFF Bank | B17: 0 | C17: 0 | D17: =B17/C17-1 -> #DIV/0! | E17: 163194.83 | F17: 158067.78 | G17: =E17/F17-1 -> 0.03243574 | H17: =B17+E17 -> 163194.83 | I17: =C17+F17 -> 158067.78 | J17: =H17/I17-1 -> 0.03243574
A18: BNP Paribas Factor | B18: 7114 | C18: 6613 | D18: =B18/C18-1 -> 0.075759867 | E18: 788082 | F18: 666002 | G18: =E18/F18-1 -> 0.18330275 | H18: =B18+E18 -> 795196 | I18: =C18+F18 -> 672615 | J18: =H18/I18-1 -> 0.18224542
A19: BPI | B19: 85294 | C19: 101448 | D19: =B19/C19-1 -> -0.15923429 | E19: 90157 | F19: 64141 | G19: =E19/F19-1 -> 0.4056064 | H19: =B19+E19 -> 175451 | I19: =C19+F19 -> 165589 | J19: =H19/I19-1 -> 0.059557096
A20: Caixa Geral de Depósitos | B20: 324747.19 | C20: 290164.53 | D20: =B20/C20-1 -> 0.11918294 | E20: 291171.55 | F20: 219349.31 | G20: =E20/F20-1 -> 0.32743318 | H20: =B20+E20 -> 615918.74 | I20: =C20+F20 -> 509513.84 | J20: =H20/I20-1 -> 0.20883614
A21: Crédit Agricole Leasing & Factoring | B21: 9449.4376 | C21: 8682.8802 | D21: =B21/C21-1 -> 0.08828377 | E21: 410018.7 | F21: 376757.16 | G21: =E21/F21-1 -> 0.08828377 | H21: =B21+E21 -> 419468.14 | I21: =C21+F21 -> 385440.04 | J21: =H21/I21-1 -> 0.08828377
A22: Finanfarma | B22: 0 | C22: 5.93718 | D22: =B22/C22-1 -> -1 | E22: 736179.6 | F22: 669186.69 | G22: =E22/F22-1 -> 0.10011094 | H22: =B22+E22 -> 736179.6 | I22: =C22+F22 -> 669192.63 | J22: =H22/I22-1 -> 0.10010118
A23: Millennium BCP | B23: 508841.39 | C23: 485577.65 | D23: =B23/C23-1 -> 0.047909419 | E23: 401067.75 | F23: 409200.43 | G23: =E23/F23-1 -> -0.019874573 | H23: =B23+E23 -> 909909.14 | I23: =C23+F23 -> 894778.08 | J23: =H23/I23-1 -> 0.016910404
A24: Novo Banco | B24: 616410 | C24: 784141 | D24: =B24/C24-1 -> -0.21390413 | E24: 645879 | F24: 474952 | G24: =E24/F24-1 -> 0.35988268 | H24: =B24+E24 -> 1262289 | I24: =C24+F24 -> 1259093 | J24: =H24/I24-1 -> 0.0025383351
A25: Santander Totta | B25: 1572661.5 | C25: 1151586.3 | D25: =B25/C25-1 -> 0.36564802 | E25: 22236.852 | F25: 28683.965 | G25: =E25/F25-1 -> -0.22476365 | H25: =B25+E25 -> 1594898.4 | I25: =C25+F25 -> 1180270.2 | J25: =H25/I25-1 -> 0.35129932
A26: TOTAL | B26: =SUM(B13:B25) -> 3293845.5 | C26: =SUM(C13:C25) -> 3021200.3 | D26: =B26/C26-1 -> 0.090244022 | E26: =SUM(E13:E25) -> 3672175.3 | F26: =SUM(F13:F25) -> 3151156.3 | G26: =E26/F26-1 -> 0.16534214 | H26: =SUM(H13:H25) -> 6966020.8 | I26: =C26+F26 -> 6172356.6 | J26: =H26/I26-1 -> 0.12858366

Sheet Ind Produção - 2
A1: INFORMAÇÃO ESTATÍSTICA DO SECTOR DE FACTORING
A3: ACUMULADO A 2026.04.30
A6: INDICADORES DE PRODUÇÃO (2)
N7: (Valores em Milhares de Euros)
A10: Factoring Internacional, Confirming e Total
B11: CRÉDITOS TOMADOS
A12: Empresas | B12: Factoring Internacional | K12: Confirming | N12: TOTAL GERAL
B13: Importação | E13: Exportação | H13: Total
B14: 2026 | C14: 2025 | D14: ∆ | E14: 2026 | F14: 2025 | G14: ∆ | H14: 2026 | I14: 2025 | J14: ∆ | K14: 2026 | L14: 2025 | M14: ∆ | N14: 2026 | O14: 2025 | P14: ∆
A15: ABANCA | C15: 0 | D15: =B15/C15-1 -> #DIV/0! | F15: 0 | G15: =E15/F15-1 -> #DIV/0! | H15: =B15+E15 -> 0 | I15: =C15+F15 -> 0 | J15: =H15/I15-1 -> #DIV/0! | L15: 111247 | M15: =K15/L15-1 -> -1 | N15: =K15+H15+'Ind Produção - 1'!H13 -> 0 | O15: =L15+I15+'Ind Produção - 1'!I13 -> 161726 | P15: =N15/O15-1 -> -1
A16: Banco Montepio | B16: 0 | C16: 0 | D16: =B16/C16-1 -> #DIV/0! | E16: 0 | F16: 0 | G16: =E16/F16-1 -> #DIV/0! | H16: =B16+E16 -> 0 | I16: =C16+F16 -> 0 | J16: =H16/I16-1 -> #DIV/0! | K16: 235398 | L16: 224381 | M16: =K16/L16-1 -> 0.049099523 | N16: =K16+H16+'Ind Produção - 1'!H14 -> 451510 | O16: =L16+I16+'Ind Produção - 1'!I14 -> 396076 | P16: =N16/O16-1 -> 0.13995799
A17: Bankinter | D17: =B17/C17-1 -> #DIV/0! | G17: =E17/F17-1 -> #DIV/0! | H17: =B17+E17 -> 0 | I17: =C17+F17 -> 0 | J17: =H17/I17-1 -> #DIV/0! | M17: =K17/L17-1 -> #DIV/0! | N17: =K17+H17+'Ind Produção - 1'!H15 -> 0 | O17: =L17+I17+'Ind Produção - 1'!I15 -> 0 | P17: =N17/O17-1 -> #DIV/0!
A18: BBVA Portugal | B18: 0 | C18: 0 | D18: =B18/C18-1 -> #DIV/0! | E18: 20162 | F18: 81608 | G18: =E18/F18-1 -> -0.75294089 | H18: =B18+E18 -> 20162 | I18: =C18+F18 -> 81608 | J18: =H18/I18-1 -> -0.75294089 | K18: 187326 | L18: 170035 | M18: =K18/L18-1 -> 0.10169083 | N18: =K18+H18+'Ind Produção - 1'!H16 -> 284892 | O18: =L18+I18+'Ind Produção - 1'!I16 -> 307266 | P18: =N18/O18-1 -> -0.072816387
A19: BFF Bank | B19: 0 | C19: 0 | D19: =B19/C19-1 -> #DIV/0! | E19: 0 | F19: 0 | G19: =E19/F19-1 -> #DIV/0! | H19: =B19+E19 -> 0 | I19: =C19+F19 -> 0 | J19: =H19/I19-1 -> #DIV/0! | K19: 0 | L19: 0 | M19: =K19/L19-1 -> #DIV/0! | N19: =K19+H19+'Ind Produção - 1'!H17 -> 163194.83 | O19: =L19+I19+'Ind Produção - 1'!I17 -> 158067.78 | P19: =N19/O19-1 -> 0.03243574
A20: BNP Paribas Factor | B20: 0 | C20: 0 | D20: =B20/C20-1 -> #DIV/0! | E20: 295982 | F20: 302654 | G20: =E20/F20-1 -> -0.022044975 | H20: =B20+E20 -> 295982 | I20: =C20+F20 -> 302654 | J20: =H20/I20-1 -> -0.022044975 | K20: 7932 | L20: 6932 | M20: =K20/L20-1 -> 0.14425851 | N20: =K20+H20+'Ind Produção - 1'!H18 -> 1099110 | O20: =L20+I20+'Ind Produção - 1'!I18 -> 982201 | P20: =N20/O20-1 -> 0.11902757
A21: BPI | B21: 0 | C21: 0 | D21: =B21/C21-1 -> #DIV/0! | E21: 45210 | F21: 31682 | G21: =E21/F21-1 -> 0.42699325 | H21: =B21+E21 -> 45210 | I21: =C21+F21 -> 31682 | J21: =H21/I21-1 -> 0.42699325 | K21: 1033460 | L21: 866886 | M21: =K21/L21-1 -> 0.19215214 | N21: =K21+H21+'Ind Produção - 1'!H19 -> 1254121 | O21: =L21+I21+'Ind Produção - 1'!I19 -> 1064157 | P21: =N21/O21-1 -> 0.17851125
A22: Caixa Geral de Depósitos | B22: 131305.68 | C22: 97136.624 | D22: =B22/C22-1 -> 0.35176288 | E22: 86552.831 | F22: 92812.189 | G22: =E22/F22-1 -> -0.067441113 | H22: =B22+E22 -> 217858.51 | I22: =C22+F22 -> 189948.81 | J22: =H22/I22-1 -> 0.14693275 | K22: 1903640.1 | L22: 1636159.3 | M22: =K22/L22-1 -> 0.16348092 | N22: =K22+H22+'Ind Produção - 1'!H20 -> 2737417.4 | O22: =L22+I22+'Ind Produção - 1'!I20 -> 2335621.9 | P22: =N22/O22-1 -> 0.17202931
A23: Crédit Agricole Leasing & Factoring | B23: 0 | C23: 0 | D23: =B23/C23-1 -> #DIV/0! | E23: 640015.04 | F23: 574808.38 | G23: =E23/F23-1 -> 0.1134407 | H23: =B23+E23 -> 640015.04 | I23: =C23+F23 -> 574808.38 | J23: =H23/I23-1 -> 0.1134407 | K23: 26659.073 | L23: 37783.794 | M23: =K23/L23-1 -> -0.29443102 | N23: =K23+H23+'Ind Produção - 1'!H21 -> 1086142.3 | O23: =L23+I23+'Ind Produção - 1'!I21 -> 998032.21 | P23: =N23/O23-1 -> 0.08828377
A24: Finanfarma | B24: 0 | C24: 0 | D24: =B24/C24-1 -> #DIV/0! | E24: 0 | F24: 0 | G24: =E24/F24-1 -> #DIV/0! | H24: =B24+E24 -> 0 | I24: =C24+F24 -> 0 | J24: =H24/I24-1 -> #DIV/0! | K24: 9378.8896 | L24: 10637.235 | M24: =K24/L24-1 -> -0.11829625 | N24: =K24+H24+'Ind Produção - 1'!H22 -> 745558.49 | O24: =L24+I24+'Ind Produção - 1'!I22 -> 679829.86 | P24: =N24/O24-1 -> 0.096683933
A25: Millennium BCP | B25: 201.795 | C25: 248.283 | D25: =B25/C25-1 -> -0.18723795 | E25: 42027.589 | F25: 62572.095 | G25: =E25/F25-1 -> -0.32833336 | H25: =B25+E25 -> 42229.384 | I25: =C25+F25 -> 62820.378 | J25: =H25/I25-1 -> -0.32777571 | K25: 2331810.6 | L25: 2116122 | M25: =K25/L25-1 -> 0.10192636 | N25: =K25+H25+'Ind Produção - 1'!H23 -> 3283949.1 | O25: =L25+I25+'Ind Produção - 1'!I23 -> 3073720.4 | P25: =N25/O25-1 -> 0.068395507
A26: Novo Banco | B26: 28010 | C26: 40789 | D26: =B26/C26-1 -> -0.31329525 | E26: 139036 | F26: 132987 | G26: =E26/F26-1 -> 0.045485649 | H26: =B26+E26 -> 167046 | I26: =C26+F26 -> 173776 | J26: =H26/I26-1 -> -0.038728018 | K26: 611260 | L26: 513499 | M26: =K26/L26-1 -> 0.19038207 | N26: =K26+H26+'Ind Produção - 1'!H24 -> 2040595 | O26: =L26+I26+'Ind Produção - 1'!I24 -> 1946368 | P26: =N26/O26-1 -> 0.048411708
A27: Santander Totta | B27: 40886.247 | C27: 118.8172 | D27: =B27/C27-1 -> 343.11051 | E27: 665820.06 | F27: 534395.21 | G27: =E27/F27-1 -> 0.24593194 | H27: =B27+E27 -> 706706.31 | I27: =C27+F27 -> 534514.03 | J27: =H27/I27-1 -> 0.32214735 | K27: 3219977.2 | L27: 1585847.9 | M27: =K27/L27-1 -> 1.0304452 | N27: =K27+H27+'Ind Produção - 1'!H25 -> 5521581.9 | O27: =L27+I27+'Ind Produção - 1'!I25 -> 3300632.1 | P27: =N27/O27-1 -> 0.67288618
A28: TOTAL | B28: =SUM(B15:B27) -> 200403.72 | C28: =SUM(C15:C27) -> 138292.72 | D28: =B28/C28-1 -> 0.44912703 | E28: =SUM(E15:E27) -> 1934805.5 | F28: =SUM(F15:F27) -> 1813518.9 | G28: =E28/F28-1 -> 0.066879179 | H28: =B28+E28 -> 2135209.3 | I28: =C28+F28 -> 1951811.6 | J28: =H28/I28-1 -> 0.093962785 | K28: =SUM(K15:K27) -> 9566841.9 | L28: =SUM(L15:L27) -> 7279530.2 | M28: =K28/L28-1 -> 0.31421145 | N28: =SUM(N15:N27) -> 18668072 | O28: =L28+I28+'Ind Produção - 1'!I26 -> 15403698 | P28: =N28/O28-1 -> 0.21192142

Sheet Ind Econ-Financeiros
A1: ACUMULADO A 2026.04.30
A3: Indicadores Económico - Financeiros
B4: Carteira
A5: Empresas | B5: Saldo de Balanço do Crédito Concedido | E5: Total sob Gestão
B6: 2026 | C6: 2025 | D6: ∆ | E6: 2026 | F6: 2025 | G6: ∆
A7: ABANCA | C7: 135638 | D7: =B7/C7-1 -> -1 | F7: 143667 | G7: =E7/F7-1 -> -1
A8: Banco Montepio | B8: 324366 | C8: 343265.3 | D8: =B8/C8-1 -> -0.055057406 | E8: 360083 | F8: 379103.8 | G8: =E8/F8-1 -> -0.050173071
A9: Bankinter | D9: =B9/C9-1 -> #DIV/0! | G9: =E9/F9-1 -> #DIV/0!
A10: BBVA Portugal | B10: 193284 | C10: 161111 | D10: =B10/C10-1 -> 0.19969462 | E10: 193284 | F10: 161111 | G10: =E10/F10-1 -> 0.19969462
A11: BFF Bank | B11: 194312.23 | C11: 259962.85 | D11: =B11/C11-1 -> -0.25253847 | E11: 194312.23 | F11: 259962.85 | G11: =E11/F11-1 -> -0.25253847
A12: BNP Paribas Factor | B12: 627223 | C12: 607082 | D12: =B12/C12-1 -> 0.033176737 | E12: 628376 | F12: 609026 | G12: =E12/F12-1 -> 0.031772043
A13: BPI | B13: 1008686.4 | C13: 1005246.4 | D13: =B13/C13-1 -> 0.0034220206 | E13: 1121452.8 | F13: 1125125.7 | G13: =E13/F13-1 -> -0.0032645079
A14: Caixa Geral de Depósitos | B14: 1719432.1 | C14: 1485581.7 | D14: =B14/C14-1 -> 0.15741335 | E14: 1719432.1 | F14: 1485581.7 | G14: =E14/F14-1 -> 0.15741335
A15: Crédit Agricole Leasing & Factoring | B15: 581050.2 | C15: 506236.24 | D15: =B15/C15-1 -> 0.14778468 | E15: 657075.79 | F15: 568980.86 | G15: =E15/F15-1 -> 0.15482934
A16: Finanfarma | B16: 92800.194 | C16: 90373.546 | D16: =B16/C16-1 -> 0.026851305 | E16: 92880.852 | F16: 91425.301 | G16: =E16/F16-1 -> 0.015920666
A17: Millennium BCP | B17: 1813203.9 | C17: 1853768.8 | D17: =B17/C17-1 -> -0.021882402 | E17: 1972826.4 | F17: 2000390.8 | G17: =E17/F17-1 -> -0.013779482
A18: Novo Banco | B18: 1121021 | C18: 1096469 | D18: =B18/C18-1 -> 0.022391878 | E18: 1382740 | F18: 1320281 | G18: =E18/F18-1 -> 0.047307354
A19: Santander Totta | B19: 2544238.3 | C19: 2095255.2 | D19: =B19/C19-1 -> 0.21428565 | E19: 3051534.2 | F19: 2537105.2 | G19: =E19/F19-1 -> 0.20276217
A20: TOTAL | B20: =SUM(B7:B19) -> 10219617 | C20: =SUM(C7:C19) -> 9639990 | D20: =B20/C20-1 -> 0.060127371 | E20: =SUM(E7:E19) -> 11373997 | F20: =SUM(F7:F19) -> 10681761 | G20: =E20/F20-1 -> 0.064805425
E22: (Valores em Milhares de Euros)
